BEGIN:VCALENDAR
VERSION:2.0
PRODID:-//Bassendean Men&#039;s Shed - ECPv6.15.20//NONSGML v1.0//EN
CALSCALE:GREGORIAN
METHOD:PUBLISH
X-ORIGINAL-URL:https://bassendeanmensshed.org.au
X-WR-CALDESC:Events for Bassendean Men&#039;s Shed
REFRESH-INTERVAL;VALUE=DURATION:PT1H
X-Robots-Tag:noindex
X-PUBLISHED-TTL:PT1H
BEGIN:VTIMEZONE
TZID:Australia/Perth
BEGIN:STANDARD
TZOFFSETFROM:+0800
TZOFFSETTO:+0800
TZNAME:AWST
DTSTART:20200101T000000
END:STANDARD
END:VTIMEZONE
BEGIN:VEVENT
DTSTART;TZID=Australia/Perth:20220719T090000
DTEND;TZID=Australia/Perth:20220719T153000
DTSTAMP:20260421T235817
CREATED:20220613T084226Z
LAST-MODIFIED:20220613T084226Z
UID:1486-1658221200-1658244600@bassendeanmensshed.org.au
SUMMARY:RAAF Museum Visit
DESCRIPTION:You need to be logged in to view this content. Please Log In. Not a Member? Join Us
URL:https://bassendeanmensshed.org.au/event/raaf-museum-visit/
CATEGORIES:Members Only
END:VEVENT
BEGIN:VEVENT
DTSTART;TZID=Australia/Perth:20220626T060000
DTEND;TZID=Australia/Perth:20220626T160000
DTSTAMP:20260421T235817
CREATED:20220613T085317Z
LAST-MODIFIED:20220613T085317Z
UID:1488-1656223200-1656259200@bassendeanmensshed.org.au
SUMMARY:Traffic Management
DESCRIPTION:You need to be logged in to view this content. Please Log In. Not a Member? Join Us
URL:https://bassendeanmensshed.org.au/event/traffic-management/
END:VEVENT
BEGIN:VEVENT
DTSTART;TZID=Australia/Perth:20220621T100000
DTEND;TZID=Australia/Perth:20220621T120000
DTSTAMP:20260421T235817
CREATED:20220613T084044Z
LAST-MODIFIED:20220613T084044Z
UID:1484-1655805600-1655812800@bassendeanmensshed.org.au
SUMMARY:Bingo
DESCRIPTION:You need to be logged in to view this content. Please Log In. Not a Member? Join Us
URL:https://bassendeanmensshed.org.au/event/bingo/
CATEGORIES:Members Only
END:VEVENT
BEGIN:VEVENT
DTSTART;TZID=Australia/Perth:20220425T110000
DTEND;TZID=Australia/Perth:20220425T140000
DTSTAMP:20260421T235817
CREATED:20220407T072510Z
LAST-MODIFIED:20220407T072510Z
UID:1462-1650884400-1650895200@bassendeanmensshed.org.au
SUMMARY:Anzac Day Wreath Laying and Lunch
DESCRIPTION:You need to be logged in to view this content. Please Log In. Not a Member? Join Us
URL:https://bassendeanmensshed.org.au/event/anzac-day-wreath-laying-and-lunch/
LOCATION:Bassendean Mens Shed
CATEGORIES:Members Only
END:VEVENT
BEGIN:VEVENT
DTSTART;TZID=Australia/Perth:20220423T080000
DTEND;TZID=Australia/Perth:20220423T160000
DTSTAMP:20260421T235817
CREATED:20220327T060530Z
LAST-MODIFIED:20220327T060530Z
UID:1433-1650700800-1650729600@bassendeanmensshed.org.au
SUMMARY:Bunnings Sausage Sizzle 23 April 2022
DESCRIPTION:You need to be logged in to view this content. Please Log In. Not a Member? Join Us
URL:https://bassendeanmensshed.org.au/event/bunnings-sausage-sizzle-23-april-2022/
LOCATION:Bunnings Bayswater\, 245 Collier Road\, Bayswater\, Australia
CATEGORIES:Members Only
ORGANIZER;CN="Sausage Bob":MAILTO:robkaye6@gmail.com
END:VEVENT
BEGIN:VEVENT
DTSTART;TZID=Australia/Perth:20220422T090000
DTEND;TZID=Australia/Perth:20220422T110000
DTSTAMP:20260421T235817
CREATED:20220401T040848Z
LAST-MODIFIED:20220401T040848Z
UID:1447-1650618000-1650625200@bassendeanmensshed.org.au
SUMMARY:Onion and Sausage Cutting
DESCRIPTION:You need to be logged in to view this content. Please Log In. Not a Member? Join Us
URL:https://bassendeanmensshed.org.au/event/onion-and-sausage-cutting/
LOCATION:Bassendean Mens Shed
CATEGORIES:Members Only
END:VEVENT
BEGIN:VEVENT
DTSTART;TZID=Australia/Perth:20220419T090000
DTEND;TZID=Australia/Perth:20220419T120000
DTSTAMP:20260421T235817
CREATED:20220401T041530Z
LAST-MODIFIED:20220401T041708Z
UID:1455-1650358800-1650369600@bassendeanmensshed.org.au
SUMMARY:Members Meeting
DESCRIPTION:You need to be logged in to view this content. Please Log In. Not a Member? Join Us
URL:https://bassendeanmensshed.org.au/event/members-meeting-2/
LOCATION:Bassendean Mens Shed
CATEGORIES:Members Only
END:VEVENT
BEGIN:VEVENT
DTSTART;TZID=Australia/Perth:20220412T100000
DTEND;TZID=Australia/Perth:20220412T120000
DTSTAMP:20260421T235817
CREATED:20220407T072646Z
LAST-MODIFIED:20220407T072646Z
UID:1464-1649757600-1649764800@bassendeanmensshed.org.au
SUMMARY:Lake Monger Men's Shed visiting
DESCRIPTION:You need to be logged in to view this content. Please Log In. Not a Member? Join Us
URL:https://bassendeanmensshed.org.au/event/lake-monger-mens-shed-visiting/
LOCATION:Bassendean Mens Shed
END:VEVENT
BEGIN:VEVENT
DTSTART;TZID=Australia/Perth:20220410T100000
DTEND;TZID=Australia/Perth:20220410T170000
DTSTAMP:20260421T235817
CREATED:20220401T041016Z
LAST-MODIFIED:20220401T041016Z
UID:1449-1649584800-1649610000@bassendeanmensshed.org.au
SUMMARY:Recreation Area Hired
DESCRIPTION:You need to be logged in to view this content. Please Log In. Not a Member? Join Us
URL:https://bassendeanmensshed.org.au/event/recreation-area-hired/
LOCATION:Bassendean Mens Shed
CATEGORIES:General Public
END:VEVENT
BEGIN:VEVENT
DTSTART;TZID=Australia/Perth:20220405T100000
DTEND;TZID=Australia/Perth:20220405T120000
DTSTAMP:20260421T235817
CREATED:20220401T041355Z
LAST-MODIFIED:20220401T041753Z
UID:1453-1649152800-1649160000@bassendeanmensshed.org.au
SUMMARY:Members Meeting
DESCRIPTION:You need to be logged in to view this content. Please Log In. Not a Member? Join Us
URL:https://bassendeanmensshed.org.au/event/members-meeting/
CATEGORIES:Members Only
END:VEVENT
BEGIN:VEVENT
DTSTART;TZID=Australia/Perth:20220404T090000
DTEND;TZID=Australia/Perth:20220404T110000
DTSTAMP:20260421T235817
CREATED:20220401T041258Z
LAST-MODIFIED:20220401T041258Z
UID:1451-1649062800-1649070000@bassendeanmensshed.org.au
SUMMARY:Committee Meeting
DESCRIPTION:You need to be logged in to view this content. Please Log In. Not a Member? Join Us
URL:https://bassendeanmensshed.org.au/event/committee-meeting/
LOCATION:Bassendean Mens Shed
CATEGORIES:Members Only
END:VEVENT
BEGIN:VEVENT
DTSTART;TZID=Australia/Perth:20220104T100000
DTEND;TZID=Australia/Perth:20220104T110000
DTSTAMP:20260421T235817
CREATED:20211227T074143Z
LAST-MODIFIED:20211227T074143Z
UID:1183-1641290400-1641294000@bassendeanmensshed.org.au
SUMMARY:public event 4 Jan 2022
DESCRIPTION:You need to be logged in to view this content. Please Log In. Not a Member? Join Us
URL:https://bassendeanmensshed.org.au/event/public-event-4-jan-2022/
CATEGORIES:General Public
END:VEVENT
BEGIN:VEVENT
DTSTART;TZID=Australia/Perth:20211231T080000
DTEND;TZID=Australia/Perth:20211231T170000
DTSTAMP:20260421T235817
CREATED:20211227T073746Z
LAST-MODIFIED:20211227T073746Z
UID:1181-1640937600-1640970000@bassendeanmensshed.org.au
SUMMARY:test member only event 31 December
DESCRIPTION:You need to be logged in to view this content. Please Log In. Not a Member? Join Us
URL:https://bassendeanmensshed.org.au/event/test-member-only-event-31-december/
CATEGORIES:Members Only
END:VEVENT
BEGIN:VEVENT
DTSTART;TZID=Australia/Perth:20211231T080000
DTEND;TZID=Australia/Perth:20211231T170000
DTSTAMP:20260421T235817
CREATED:20211218T043044Z
LAST-MODIFIED:20211218T074255Z
UID:1168-1640937600-1640970000@bassendeanmensshed.org.au
SUMMARY:Test Event for General Public - 31/12/2021
DESCRIPTION:You need to be logged in to view this content. Please Log In. Not a Member? Join Us
URL:https://bassendeanmensshed.org.au/event/test-event-for-general-public/
CATEGORIES:General Public
ATTACH;FMTTYPE=image/jpeg:https://bassendeanmensshed.org.au/wp-content/uploads/2021/12/Bowling-Ball-Caddy-delivery-rotated.jpg
END:VEVENT
BEGIN:VEVENT
DTSTART;TZID=Australia/Perth:20211221T113000
DTEND;TZID=Australia/Perth:20211221T170000
DTSTAMP:20260421T235817
CREATED:20211210T020542Z
LAST-MODIFIED:20211216T070414Z
UID:1059-1640086200-1640106000@bassendeanmensshed.org.au
SUMMARY:X-mas function at the Shed
DESCRIPTION:You need to be logged in to view this content. Please Log In. Not a Member? Join Us
URL:https://bassendeanmensshed.org.au/event/x-mas-function-at-the-shed/
CATEGORIES:Members Only
END:VEVENT
BEGIN:VEVENT
DTSTART;TZID=Australia/Perth:20211218T080000
DTEND;TZID=Australia/Perth:20211218T080000
DTSTAMP:20260421T235817
CREATED:20211212T095348Z
LAST-MODIFIED:20211216T053504Z
UID:1094-1639814400-1639814400@bassendeanmensshed.org.au
SUMMARY:Bunnings sausage sizzle
DESCRIPTION:You need to be logged in to view this content. Please Log In. Not a Member? Join Us
URL:https://bassendeanmensshed.org.au/event/bunnings-sausage-sizzle/
END:VEVENT
END:VCALENDAR